BEGIN:VCALENDAR
VERSION:2.0
PRODID:-//Iglesia Unida Vigo - ECPv6.3.2//NONSGML v1.0//EN
CALSCALE:GREGORIAN
METHOD:PUBLISH
X-ORIGINAL-URL:https://unidavigo.es
X-WR-CALDESC:Eventos para Iglesia Unida Vigo
REFRESH-INTERVAL;VALUE=DURATION:PT1H
X-Robots-Tag:noindex
X-PUBLISHED-TTL:PT1H
BEGIN:VTIMEZONE
TZID:Europe/Paris
BEGIN:DAYLIGHT
TZOFFSETFROM:+0100
TZOFFSETTO:+0200
TZNAME:CEST
DTSTART:20160327T010000
END:DAYLIGHT
BEGIN:STANDARD
TZOFFSETFROM:+0200
TZOFFSETTO:+0100
TZNAME:CET
DTSTART:20161030T010000
END:STANDARD
BEGIN:DAYLIGHT
TZOFFSETFROM:+0100
TZOFFSETTO:+0200
TZNAME:CEST
DTSTART:20170326T010000
END:DAYLIGHT
BEGIN:STANDARD
TZOFFSETFROM:+0200
TZOFFSETTO:+0100
TZNAME:CET
DTSTART:20171029T010000
END:STANDARD
END:VTIMEZONE
BEGIN:VEVENT
DTSTART;TZID=Europe/Paris:20170227T090000
DTEND;TZID=Europe/Paris:20170228T180000
DTSTAMP:20260421T120524
CREATED:20161231T150901Z
LAST-MODIFIED:20170111T154647Z
UID:981-1488186000-1488304800@unidavigo.es
SUMMARY:UNLIMITED
DESCRIPTION:Congreso \nUNLIMITED \nConferenciante: Moises Peinado \n27-28 febrero 2017 \nAUDITORIO I. UNIDA DE VIGO \n\nALABANZA\nCONFERENCIAS\nTALLERES\nARTE\nCOMPAÑERISMO\nNOCHE UNLIMITED\n\nCelebraremos un festival en beneficio de la ONG Dignidad Galicia.\nSerá una noche llena de espectáculo\, ritmo y emoción. \nALBERGUE: Si eres de fuera de Vigo tenemos un albergue gratuito donde podrás dormir\, también tenemos casas disponibles para que puedas alojarte sin coste alguno.\nReserva alojamiento 695 306 954\nMENÚ UNLIMITED: Dispondremos de una cantina con bocadillos y refrescos para que puedas alimentarte a bajo coste. \nPRECIO: 10€\nINFO E INSCRIPCIÓN: 646953149\, 647437525 o sara.f.aguayo@gmail.com
URL:https://unidavigo.es/event/unlimited/
LOCATION:Iglesia Unida – Vigo\, Calle Pi y Margall\, 25\, Vigo\, Pontevedra\, 36202\, España
CATEGORIES:Congreso
ATTACH;FMTTYPE=image/jpeg:https://unidavigo.es/wp-content/uploads/2016/12/Congreso-Unlimited_v3.jpg
END:VEVENT
BEGIN:VEVENT
DTSTART;TZID=Europe/Paris:20161231T090000
DTEND;TZID=Europe/Paris:20161231T180000
DTSTAMP:20260421T120524
CREATED:20161231T153001Z
LAST-MODIFIED:20161231T153001Z
UID:987-1483174800-1483207200@unidavigo.es
SUMMARY:Nieve
DESCRIPTION:
URL:https://unidavigo.es/event/nieve/
LOCATION:Manzaneda\, Rúa de Cea\, Manzaneda\, Ourense\, 32781\, España
CATEGORIES:Espacio Ludico
ATTACH;FMTTYPE=image/png:https://unidavigo.es/wp-content/uploads/2016/12/3.png
ORGANIZER;CN="Iglesia Unida":MAILTO:davidconde@unidavigo.es
END:VEVENT
END:VCALENDAR